BEGIN:VCALENDAR
VERSION:2.0
PRODID:https://www.lbo79.de
BEGIN:VTIMEZONE
TZID:Europe/Berlin
X-LIC-LOCATION:Europe/Berlin
BEGIN:DAYLIGHT
TZOFFSETFROM:+0100
TZOFFSETTO:+0200
TZNAME:CEST
DTSTART:19700329T020000
RRULE:FREQ=YEARLY;BYDAY=-1SU;BYMONTH=3
END:DAYLIGHT
BEGIN:STANDARD
TZOFFSETFROM:+0200
TZOFFSETTO:+0100
TZNAME:CET
DTSTART:19701025T030000
RRULE:FREQ=YEARLY;BYDAY=-1SU;BYMONTH=10
END:STANDARD
END:VTIMEZONE
BEGIN:VEVENT
LOCATION:Rosenweg 148, 53757 Sankt Augustin
SUMMARY:Martinszug Katholische Grundschule Buisdorf
DESCRIPTION:Aufstellung ist um 17.45 Uhr im Rosenweg zwischen Haus Nr. 148 und 166. Parkplätze stehen am Kreisel neben der Feuerwehr zur Verfügung oder auf der Frankfurter Straße.  Zugstart 18:00 Uhr, Martinsfeuer auf der Wiese an der Brückenstraße
CLASS:PUBLIC
DTSTART;TZID=Europe/Berlin:20251106T180000
DTEND;TZID=Europe/Berlin:20251106T180000
DTSTAMP:20241110T103207
UID:2213
STATUS:bestätigt
LAST-MODIFIED:20250922T095433
END:VEVENT
END:VCALENDAR