BEGIN:VCALENDAR
VERSION:2.0
PRODID:https://www.lbo79.de
BEGIN:VTIMEZONE
TZID:Europe/Berlin
X-LIC-LOCATION:Europe/Berlin
BEGIN:DAYLIGHT
TZOFFSETFROM:+0100
TZOFFSETTO:+0200
TZNAME:CEST
DTSTART:19700329T020000
RRULE:FREQ=YEARLY;BYDAY=-1SU;BYMONTH=3
END:DAYLIGHT
BEGIN:STANDARD
TZOFFSETFROM:+0200
TZOFFSETTO:+0100
TZNAME:CET
DTSTART:19701025T030000
RRULE:FREQ=YEARLY;BYDAY=-1SU;BYMONTH=10
END:STANDARD
END:VTIMEZONE
BEGIN:VEVENT
LOCATION:Egerländer Straße 2, 53840 Troisdorf
SUMMARY:Martinszug Waldorfkindergarten Troisdorf e.V.
DESCRIPTION:Aufstellen ca. 17.15 Uhr, Zugstart 17.30 Uhr. Es werden 2-3 Lieder gewünscht, die nicht im Repertoire stehen, die Noten dafür wurden vorbereitet. Ansprechpartnerin vor Ort ist Fr. Jana Osterczyk.
CLASS:PUBLIC
DTSTART;TZID=Europe/Berlin:20251114T173000
DTEND;TZID=Europe/Berlin:20251114T173000
DTSTAMP:20241111T083925
UID:2214
STATUS:bestätigt
LAST-MODIFIED:20241130T210021
END:VEVENT
END:VCALENDAR