BEGIN:VCALENDAR
VERSION:2.0
PRODID:https://www.lbo79.de
BEGIN:VTIMEZONE
TZID:Europe/Berlin
X-LIC-LOCATION:Europe/Berlin
BEGIN:DAYLIGHT
TZOFFSETFROM:+0100
TZOFFSETTO:+0200
TZNAME:CEST
DTSTART:19700329T020000
RRULE:FREQ=YEARLY;BYDAY=-1SU;BYMONTH=3
END:DAYLIGHT
BEGIN:STANDARD
TZOFFSETFROM:+0200
TZOFFSETTO:+0100
TZNAME:CET
DTSTART:19701025T030000
RRULE:FREQ=YEARLY;BYDAY=-1SU;BYMONTH=10
END:STANDARD
END:VTIMEZONE
BEGIN:VEVENT
LOCATION:Dahlhauser Straße 16, 53797 Lohmar
SUMMARY:Platzkonzert zum Oktoberfest Dahlhaus
DESCRIPTION:Kurz nach 13 Uhr Fassanstich mit "Ein Prosit ...", danach direkt Platzkonzert
CLASS:PUBLIC
DTSTART;TZID=Europe/Berlin:20250927T130000
DTEND;TZID=Europe/Berlin:20250927T143000
DTSTAMP:20250126T123747
UID:2267
STATUS:bestätigt
LAST-MODIFIED:20250921T160208
END:VEVENT
END:VCALENDAR