BEGIN:VCALENDAR
VERSION:2.0
PRODID:https://www.lbo79.de
BEGIN:VTIMEZONE
TZID:Europe/Berlin
X-LIC-LOCATION:Europe/Berlin
BEGIN:DAYLIGHT
TZOFFSETFROM:+0100
TZOFFSETTO:+0200
TZNAME:CEST
DTSTART:19700329T020000
RRULE:FREQ=YEARLY;BYDAY=-1SU;BYMONTH=3
END:DAYLIGHT
BEGIN:STANDARD
TZOFFSETFROM:+0200
TZOFFSETTO:+0100
TZNAME:CET
DTSTART:19701025T030000
RRULE:FREQ=YEARLY;BYDAY=-1SU;BYMONTH=10
END:STANDARD
END:VTIMEZONE
BEGIN:VEVENT
LOCATION:Dahlhauser Straße 16 , Lohmar
SUMMARY:Sommer-Familientreff und Wanderung des LBO mit anschließendem Grillen und Beisammensein
DESCRIPTION:Wir möchten wieder ein gemeinsames Event (diesmal in Dahlhaus) durchführen mit einer kleinen Wanderung ab 16 Uhr und einem anschließenden gemütlichen Beisammensein ab ca. 17 Uhr. Grillgut, Brot und Getränke stellt der Verein, Salatspenden sind herzlich willkommen. Familienangehörige sind erwünscht, um Anmeldung wird gebeten. Wer nicht gut zu Fuß ist, darf trotzdem am Grillen teilnehmen.<br><b>Um das Mitbringen von Tellern, Besteck und Gläsern wird herzlich gebeten</b>
CLASS:PUBLIC
DTSTART;TZID=Europe/Berlin:20250824T160000
DTEND;TZID=Europe/Berlin:20250824T200000
DTSTAMP:20250215T093538
UID:2293
STATUS:bestätigt
LAST-MODIFIED:20250731T182256
END:VEVENT
END:VCALENDAR