BEGIN:VCALENDAR
VERSION:2.0
PRODID:https://www.lbo79.de
BEGIN:VTIMEZONE
TZID:Europe/Berlin
X-LIC-LOCATION:Europe/Berlin
BEGIN:DAYLIGHT
TZOFFSETFROM:+0100
TZOFFSETTO:+0200
TZNAME:CEST
DTSTART:19700329T020000
RRULE:FREQ=YEARLY;BYDAY=-1SU;BYMONTH=3
END:DAYLIGHT
BEGIN:STANDARD
TZOFFSETFROM:+0200
TZOFFSETTO:+0100
TZNAME:CET
DTSTART:19701025T030000
RRULE:FREQ=YEARLY;BYDAY=-1SU;BYMONTH=10
END:STANDARD
END:VTIMEZONE
BEGIN:VEVENT
LOCATION:Bartholomäusstraße 6, Lohmar
SUMMARY:Altjahresabend Wahlscheid
DESCRIPTION:Bitte 1 Stunde vor Beginn (15:00) spielbereit in der Kirche für eine letzte Probe !
CLASS:PUBLIC
DTSTART;TZID=Europe/Berlin:20251231T160000
DTEND;TZID=Europe/Berlin:20251231T160000
DTSTAMP:20250624T155448
UID:2405
STATUS:bestätigt
LAST-MODIFIED:20251217T190830
END:VEVENT
END:VCALENDAR