BEGIN:VCALENDAR
VERSION:2.0
PRODID:https://www.lbo79.de
BEGIN:VTIMEZONE
TZID:Europe/Berlin
X-LIC-LOCATION:Europe/Berlin
BEGIN:DAYLIGHT
TZOFFSETFROM:+0100
TZOFFSETTO:+0200
TZNAME:CEST
DTSTART:19700329T020000
RRULE:FREQ=YEARLY;BYDAY=-1SU;BYMONTH=3
END:DAYLIGHT
BEGIN:STANDARD
TZOFFSETFROM:+0200
TZOFFSETTO:+0100
TZNAME:CET
DTSTART:19701025T030000
RRULE:FREQ=YEARLY;BYDAY=-1SU;BYMONTH=10
END:STANDARD
END:VTIMEZONE
BEGIN:VEVENT
LOCATION:Zum Kammerberg 1-3, 53797 Lohmar
SUMMARY:Martinszug Kindergarten Honrath
DESCRIPTION:
CLASS:PUBLIC
DTSTART;TZID=Europe/Berlin:20261104T171500
DTEND;TZID=Europe/Berlin:20261104T171500
DTSTAMP:20251107T093352
UID:2483
STATUS:bestätigt
LAST-MODIFIED:20251107T093352
END:VEVENT
END:VCALENDAR