BEGIN:VCALENDAR
VERSION:2.0
PRODID:https://www.lbo79.de
BEGIN:VTIMEZONE
TZID:Europe/Berlin
X-LIC-LOCATION:Europe/Berlin
BEGIN:DAYLIGHT
TZOFFSETFROM:+0100
TZOFFSETTO:+0200
TZNAME:CEST
DTSTART:19700329T020000
RRULE:FREQ=YEARLY;BYDAY=-1SU;BYMONTH=3
END:DAYLIGHT
BEGIN:STANDARD
TZOFFSETFROM:+0200
TZOFFSETTO:+0100
TZNAME:CET
DTSTART:19701025T030000
RRULE:FREQ=YEARLY;BYDAY=-1SU;BYMONTH=10
END:STANDARD
END:VTIMEZONE
BEGIN:VEVENT
LOCATION:Am Sonnenhang, Siegburg-Kaldauen
SUMMARY:Karnevalszug Kaldauen
DESCRIPTION:mit Froschmützen<br>Aufstellung ab 11.30 Uhr, Start 12.30 Uhr, wir sind Gruppe Nr. 5<br>Die Aufstellung erfolgt in umgekehrter Reihenfolge. Die das Startfahrzeug und die Gruppen ziehen dann von hinten jeweils an allen anderen Teilnehmern vorbei.
CLASS:PUBLIC
DTSTART;TZID=Europe/Berlin:20260215T123000
DTEND;TZID=Europe/Berlin:20260215T123000
DTSTAMP:20251226T161538
UID:2518
STATUS:bestätigt
LAST-MODIFIED:20260205T221209
END:VEVENT
END:VCALENDAR