BEGIN:VCALENDAR
VERSION:2.0
PRODID:https://www.lbo79.de
BEGIN:VTIMEZONE
TZID:Europe/Berlin
X-LIC-LOCATION:Europe/Berlin
BEGIN:DAYLIGHT
TZOFFSETFROM:+0100
TZOFFSETTO:+0200
TZNAME:CEST
DTSTART:19700329T020000
RRULE:FREQ=YEARLY;BYDAY=-1SU;BYMONTH=3
END:DAYLIGHT
BEGIN:STANDARD
TZOFFSETFROM:+0200
TZOFFSETTO:+0100
TZNAME:CET
DTSTART:19701025T030000
RRULE:FREQ=YEARLY;BYDAY=-1SU;BYMONTH=10
END:STANDARD
END:VTIMEZONE
BEGIN:VEVENT
LOCATION:Jabachhalle, Lohmar
SUMMARY:Rosenmontagszug Lohmar
DESCRIPTION:Aufstellung ab 13:30 auf dem Parkplatz Jabachhalle, Froschmützen, Noten werden mitgebracht
CLASS:PUBLIC
DTSTART;TZID=Europe/Berlin:20260216T143000
DTEND;TZID=Europe/Berlin:20260216T143000
DTSTAMP:20251228T094122
UID:2519
STATUS:bestätigt
LAST-MODIFIED:20251228T094122
END:VEVENT
END:VCALENDAR