BEGIN:VCALENDAR
VERSION:2.0
PRODID:https://www.lbo79.de
BEGIN:VTIMEZONE
TZID:Europe/Berlin
X-LIC-LOCATION:Europe/Berlin
BEGIN:DAYLIGHT
TZOFFSETFROM:+0100
TZOFFSETTO:+0200
TZNAME:CEST
DTSTART:19700329T020000
RRULE:FREQ=YEARLY;BYDAY=-1SU;BYMONTH=3
END:DAYLIGHT
BEGIN:STANDARD
TZOFFSETFROM:+0200
TZOFFSETTO:+0100
TZNAME:CET
DTSTART:19701025T030000
RRULE:FREQ=YEARLY;BYDAY=-1SU;BYMONTH=10
END:STANDARD
END:VTIMEZONE
BEGIN:VEVENT
LOCATION:Parkplatz Jabachhalle, Lohmar
SUMMARY:Orchesterausflug in die französischen Partnerstädte Lohmars (mit Konzert)
DESCRIPTION:Abfahrt und Rückankunft am Parkplatz Jabachhhalle
CLASS:PUBLIC
DTSTART;TZID=Europe/Berlin:20260925T150000
DTEND;TZID=Europe/Berlin:20260925T210000
DTSTAMP:20251228T123727
UID:2520
STATUS:unbestätigt
LAST-MODIFIED:20260217T151517
END:VEVENT
END:VCALENDAR