BEGIN:VCALENDAR
VERSION:2.0
PRODID:https://www.lbo79.de
BEGIN:VTIMEZONE
TZID:Europe/Berlin
X-LIC-LOCATION:Europe/Berlin
BEGIN:DAYLIGHT
TZOFFSETFROM:+0100
TZOFFSETTO:+0200
TZNAME:CEST
DTSTART:19700329T020000
RRULE:FREQ=YEARLY;BYDAY=-1SU;BYMONTH=3
END:DAYLIGHT
BEGIN:STANDARD
TZOFFSETFROM:+0200
TZOFFSETTO:+0100
TZNAME:CET
DTSTART:19701025T030000
RRULE:FREQ=YEARLY;BYDAY=-1SU;BYMONTH=10
END:STANDARD
END:VTIMEZONE
BEGIN:VEVENT
LOCATION:Hermann-Löns-Str. 1, 50389 Wesseling
SUMMARY:Kinderkarnevalszug Wesseling
DESCRIPTION:mit Froschmützen<br>Aufstellung ab 13 Uhr, Abmarsch 14.00 Uhr<br>Wir gehen als erste Gruppe im Zug! Aufstellung Hermann-Löns-Straße 1 (neben Jakob-Grill)<br>Beim Zug herrscht striktes Alkoholverbot!!
CLASS:PUBLIC
DTSTART;TZID=Europe/Berlin:20260214T140000
DTEND;TZID=Europe/Berlin:20260214T140000
DTSTAMP:20260103T130048
UID:2521
STATUS:bestätigt
LAST-MODIFIED:20260209T194925
END:VEVENT
END:VCALENDAR