BEGIN:VCALENDAR
VERSION:2.0
PRODID:https://www.lbo79.de
BEGIN:VTIMEZONE
TZID:Europe/Berlin
X-LIC-LOCATION:Europe/Berlin
BEGIN:DAYLIGHT
TZOFFSETFROM:+0100
TZOFFSETTO:+0200
TZNAME:CEST
DTSTART:19700329T020000
RRULE:FREQ=YEARLY;BYDAY=-1SU;BYMONTH=3
END:DAYLIGHT
BEGIN:STANDARD
TZOFFSETFROM:+0200
TZOFFSETTO:+0100
TZNAME:CET
DTSTART:19701025T030000
RRULE:FREQ=YEARLY;BYDAY=-1SU;BYMONTH=10
END:STANDARD
END:VTIMEZONE
BEGIN:VEVENT
LOCATION:Hermann-Löns-Straße 35, Lohmar
SUMMARY:außerordentliche Mitgliederversammlung des LBO
DESCRIPTION:<a href="/downloads/Einladung_AoMV2026-1.pdf" target="_blank">Einladung (PDF)</a>
CLASS:PUBLIC
DTSTART;TZID=Europe/Berlin:20260311T203000
DTEND;TZID=Europe/Berlin:20260311T210000
DTSTAMP:20260220T084425
UID:2544
STATUS:bestätigt
LAST-MODIFIED:20260221T080428
END:VEVENT
END:VCALENDAR