BEGIN:VCALENDAR
VERSION:2.0
PRODID:https://www.lbo79.de
BEGIN:VTIMEZONE
TZID:Europe/Berlin
X-LIC-LOCATION:Europe/Berlin
BEGIN:DAYLIGHT
TZOFFSETFROM:+0100
TZOFFSETTO:+0200
TZNAME:CEST
DTSTART:19700329T020000
RRULE:FREQ=YEARLY;BYDAY=-1SU;BYMONTH=3
END:DAYLIGHT
BEGIN:STANDARD
TZOFFSETFROM:+0200
TZOFFSETTO:+0100
TZNAME:CET
DTSTART:19701025T030000
RRULE:FREQ=YEARLY;BYDAY=-1SU;BYMONTH=10
END:STANDARD
END:VTIMEZONE
BEGIN:VEVENT
LOCATION:Breidter Straße 11, Lohmar
SUMMARY:Sommer-Familientreff und Wanderung des LBO mit anschließendem Grillen und Beisammensein
DESCRIPTION:Wir möchten wieder ein gemeinsames Event durchführen mit einer kleinen Wanderung ab 15 Uhr (eine größere Runde und eine kleinere Runde werden angeboten) und einem anschließenden gemütlichen Beisammensein ab ca. 16 Uhr. Grillgut, Brot und Getränke stellt der Verein, Salatspenden sind herzlich willkommen. Familienangehörige sind erwünscht, um Anmeldung wird gebeten. Wer nicht gut zu Fuß ist, darf trotzdem am Grillen teilnehmen.<br><b>Um das Mitbringen von Tellern, Besteck und Gläsern wird herzlich gebeten</b>
CLASS:PUBLIC
DTSTART;TZID=Europe/Berlin:20260830T150000
DTEND;TZID=Europe/Berlin:20260830T200000
DTSTAMP:20260312T095440
UID:2560
STATUS:bestätigt
LAST-MODIFIED:20260312T095440
END:VEVENT
END:VCALENDAR