BEGIN:VCALENDAR
VERSION:2.0
PRODID:https://www.lbo79.de
BEGIN:VTIMEZONE
TZID:Europe/Berlin
X-LIC-LOCATION:Europe/Berlin
BEGIN:DAYLIGHT
TZOFFSETFROM:+0100
TZOFFSETTO:+0200
TZNAME:CEST
DTSTART:19700329T020000
RRULE:FREQ=YEARLY;BYDAY=-1SU;BYMONTH=3
END:DAYLIGHT
BEGIN:STANDARD
TZOFFSETFROM:+0200
TZOFFSETTO:+0100
TZNAME:CET
DTSTART:19701025T030000
RRULE:FREQ=YEARLY;BYDAY=-1SU;BYMONTH=10
END:STANDARD
END:VTIMEZONE
BEGIN:VEVENT
LOCATION:Camp-Spich-Straße 1, 53842 Troisdorf
SUMMARY:Probe Hauptorchester und Reibekuchenessen im Anschluss
DESCRIPTION:Alois lädt ein zur Feier seines 75. Geburtstages, Verlegung der Probe von Mittwoch auf Donnerstag
CLASS:PUBLIC
DTSTART;TZID=Europe/Berlin:20260507T183000
DTEND;TZID=Europe/Berlin:20260507T183000
DTSTAMP:20260328T150936
UID:2576
STATUS:bestätigt
LAST-MODIFIED:20260328T162325
END:VEVENT
END:VCALENDAR